BEGIN:VCALENDAR
VERSION:2.0
PRODID:-//MSNVA - ECPv6.15.20//NONSGML v1.0//EN
CALSCALE:GREGORIAN
METHOD:PUBLISH
X-WR-CALNAME:MSNVA
X-ORIGINAL-URL:https://msnva.org
X-WR-CALDESC:Events for MSNVA
REFRESH-INTERVAL;VALUE=DURATION:PT1H
X-Robots-Tag:noindex
X-PUBLISHED-TTL:PT1H
BEGIN:VTIMEZONE
TZID:America/New_York
BEGIN:DAYLIGHT
TZOFFSETFROM:-0500
TZOFFSETTO:-0400
TZNAME:EDT
DTSTART:20240310T070000
END:DAYLIGHT
BEGIN:STANDARD
TZOFFSETFROM:-0400
TZOFFSETTO:-0500
TZNAME:EST
DTSTART:20241103T060000
END:STANDARD
BEGIN:DAYLIGHT
TZOFFSETFROM:-0500
TZOFFSETTO:-0400
TZNAME:EDT
DTSTART:20250309T070000
END:DAYLIGHT
BEGIN:STANDARD
TZOFFSETFROM:-0400
TZOFFSETTO:-0500
TZNAME:EST
DTSTART:20251102T060000
END:STANDARD
BEGIN:DAYLIGHT
TZOFFSETFROM:-0500
TZOFFSETTO:-0400
TZNAME:EDT
DTSTART:20260308T070000
END:DAYLIGHT
BEGIN:STANDARD
TZOFFSETFROM:-0400
TZOFFSETTO:-0500
TZNAME:EST
DTSTART:20261101T060000
END:STANDARD
END:VTIMEZONE
BEGIN:VEVENT
DTSTART;TZID=America/New_York:20250918T183000
DTEND;TZID=America/New_York:20250918T203000
DTSTAMP:20260425T151034
CREATED:20250409T143412Z
LAST-MODIFIED:20250903T174221Z
UID:31221-1758220200-1758227400@msnva.org
SUMMARY:CWM Dinner
DESCRIPTION:Please join us for an engaging and inspiring evening featuring MSNVA member Nicole Hayre\, MD\, FAAD. \n \nDr. Hayre will share her experience as a scientist and entrepreneur that led to the creation of Cutocin®\,\na first-of-its-kind anti-aging skincare line that incorporates a patented botanical ingredient\,\nmimicking the effects of Oxytocin on the skin and ensuring a youthful glow\, like that of being in love. \n  \n*This event is for active MSNVA members only / One ticket per member \nSponsor by:
URL:https://msnva.org/events/cwm-dinner/
LOCATION:The Palm Tysons Corner\, 1750 Tysons Blvd\, Tysons\, VA\, 22102\, United States
END:VEVENT
BEGIN:VEVENT
DTSTART;TZID=America/New_York:20250925T123000
DTEND;TZID=America/New_York:20250925T133000
DTSTAMP:20260425T151034
CREATED:20250825T201331Z
LAST-MODIFIED:20250828T173736Z
UID:32013-1758803400-1758807000@msnva.org
SUMMARY:HIV PrEP CME
DESCRIPTION:Live Webinar CME Lunch Lecture Series\nTopic: Adolescents\, HIV\, and PrEP \nSpeaker: Lisa B. Hightow-Weidman\, MD\, MPH \nTime: 12:30PM-EST \n \n*This lecture is open to physicians and their care team\n*1 AMA PRA Category 1 Credits™ or 1.0 continuing nursing contact hour \nThis activity is jointly provided by the University of Nebraska Medical Center and Practice Point® Communications. \n \nFor additional information\, please contact Regina Stacy \nPhone: (813) 925-7158\nrstacy@practicepointcme.com
URL:https://msnva.org/events/hiv-prep-cme/
LOCATION:Live Webinar
ORGANIZER;CN="MSNVA":MAILTO:leadership@msnva.org
END:VEVENT
BEGIN:VEVENT
DTSTART;TZID=America/New_York:20250925T183000
DTEND;TZID=America/New_York:20250925T203000
DTSTAMP:20260425T151034
CREATED:20250728T201714Z
LAST-MODIFIED:20250925T140144Z
UID:31961-1758825000-1758832200@msnva.org
SUMMARY:MGIS Dinner Lecture
DESCRIPTION:Members are invited to join the MGIS and Corporate Synergies teams to a private dinner.  Guests will be treated to a delectable dinner paired with wine and great cocktails at the most interesting restaurant in Reston.  Heirloom Restaurant is located inside the Open Road Distillery through a hidden door in Reston Town Center. \nTopic:\nHigh limit disability \nSpeakers:\nRodger D. Biddle II \, Regional VP of Distribution | MGIS\nMichael Rachesky\, Regional Vice President\, DC Metro | Corporate Synergies \n*This event is for active MSNVA members only / One ticket per member \n  \nSponsor by: \n      \n 
URL:https://msnva.org/events/mgis-dinner-lecture/
LOCATION:Heirloom Restaurant Reston\, 1871 Fountain Dr Suite 300\, Reston\, 20190\, United States
ORGANIZER;CN="Medical Society of Northern Virginia":MAILTO:leadership@msnva.org
END:VEVENT
BEGIN:VEVENT
DTSTART;TZID=America/New_York:20250927T140000
DTEND;TZID=America/New_York:20250927T170000
DTSTAMP:20260425T151034
CREATED:20250923T160306Z
LAST-MODIFIED:20250923T161427Z
UID:32232-1758981600-1758992400@msnva.org
SUMMARY:Self-defense Seminar
DESCRIPTION:MSNVA members are invited to join Nancy Tanchel\, MD\, MSNVA Treasurer for a self-defense seminar. \nIf you’re alone in the office or out late and worry about your safety – this get-together should provide some tips and actionable solutions to help you feel more secure. \nAll women are invited to attend including physicians\, spouses/girlfriends of physicians\, and others – men who are interested may attend as well. \nThis a free session.  It will be taught by Adam Wise\, candidate for delegate for district 11\, an expert in the field. \nSponsored by:
URL:https://msnva.org/events/selfdefense-seminar/
LOCATION:Liberty Laser Eye Center\, 8321 Old Courthouse Road\, Ste 110\, Vienna\, 22182\, United States
END:VEVENT
BEGIN:VEVENT
DTSTART;TZID=America/New_York:20250928T113000
DTEND;TZID=America/New_York:20250928T130000
DTSTAMP:20260425T151034
CREATED:20250903T153227Z
LAST-MODIFIED:20250903T193838Z
UID:32136-1759059000-1759064400@msnva.org
SUMMARY:Meet & Greet
DESCRIPTION:Content is protected.
URL:https://msnva.org/events/meet-greet/
LOCATION:Private Residence\, 47865 Scotsborough Square\, Sterling\, VA\, 20165\, United States
ORGANIZER;CN="Medical Society of Northern Virginia":MAILTO:leadership@msnva.org
END:VEVENT
END:VCALENDAR