BEGIN:VCALENDAR
VERSION:2.0
PRODID:-//MSNVA - ECPv6.15.20//NONSGML v1.0//EN
CALSCALE:GREGORIAN
METHOD:PUBLISH
X-WR-CALNAME:MSNVA
X-ORIGINAL-URL:https://msnva.org
X-WR-CALDESC:Events for MSNVA
REFRESH-INTERVAL;VALUE=DURATION:PT1H
X-Robots-Tag:noindex
X-PUBLISHED-TTL:PT1H
BEGIN:VTIMEZONE
TZID:America/New_York
BEGIN:DAYLIGHT
TZOFFSETFROM:-0500
TZOFFSETTO:-0400
TZNAME:EDT
DTSTART:20240310T070000
END:DAYLIGHT
BEGIN:STANDARD
TZOFFSETFROM:-0400
TZOFFSETTO:-0500
TZNAME:EST
DTSTART:20241103T060000
END:STANDARD
BEGIN:DAYLIGHT
TZOFFSETFROM:-0500
TZOFFSETTO:-0400
TZNAME:EDT
DTSTART:20250309T070000
END:DAYLIGHT
BEGIN:STANDARD
TZOFFSETFROM:-0400
TZOFFSETTO:-0500
TZNAME:EST
DTSTART:20251102T060000
END:STANDARD
BEGIN:DAYLIGHT
TZOFFSETFROM:-0500
TZOFFSETTO:-0400
TZNAME:EDT
DTSTART:20260308T070000
END:DAYLIGHT
BEGIN:STANDARD
TZOFFSETFROM:-0400
TZOFFSETTO:-0500
TZNAME:EST
DTSTART:20261101T060000
END:STANDARD
END:VTIMEZONE
BEGIN:VEVENT
DTSTART;TZID=America/New_York:20250529T183000
DTEND;TZID=America/New_York:20250529T203000
DTSTAMP:20260425T202548
CREATED:20250422T145538Z
LAST-MODIFIED:20250528T004727Z
UID:31556-1748543400-1748550600@msnva.org
SUMMARY:Educational Dinner Presentation
DESCRIPTION:Join the MSNVA Leadership for an educational dinner presentation. \nProgram\n6:30PM: Networking with cocktails and wine \n6:45PM: MSNVA summer advocacy agenda \n7:00PM: Overview of the MSNVA Delta Dental/Vision plan \n7:15PM: Q&A with Delta Dental/Vision teams \n7:30PM: Three-course dinner \n  \nSponsored by:
URL:https://msnva.org/events/educational-dinner-presentation/
LOCATION:The Palm Tysons Corner\, 1750 Tysons Blvd\, Tysons\, VA\, 22102\, United States
ORGANIZER;CN="MSNVA":MAILTO:leadership@msnva.org
END:VEVENT
END:VCALENDAR