BEGIN:VCALENDAR
VERSION:2.0
PRODID:-//MSNVA - ECPv6.15.20//NONSGML v1.0//EN
CALSCALE:GREGORIAN
METHOD:PUBLISH
X-WR-CALNAME:MSNVA
X-ORIGINAL-URL:https://msnva.org
X-WR-CALDESC:Events for MSNVA
REFRESH-INTERVAL;VALUE=DURATION:PT1H
X-Robots-Tag:noindex
X-PUBLISHED-TTL:PT1H
BEGIN:VTIMEZONE
TZID:America/New_York
BEGIN:DAYLIGHT
TZOFFSETFROM:-0500
TZOFFSETTO:-0400
TZNAME:EDT
DTSTART:20220313T070000
END:DAYLIGHT
BEGIN:STANDARD
TZOFFSETFROM:-0400
TZOFFSETTO:-0500
TZNAME:EST
DTSTART:20221106T060000
END:STANDARD
BEGIN:DAYLIGHT
TZOFFSETFROM:-0500
TZOFFSETTO:-0400
TZNAME:EDT
DTSTART:20230312T070000
END:DAYLIGHT
BEGIN:STANDARD
TZOFFSETFROM:-0400
TZOFFSETTO:-0500
TZNAME:EST
DTSTART:20231105T060000
END:STANDARD
BEGIN:DAYLIGHT
TZOFFSETFROM:-0500
TZOFFSETTO:-0400
TZNAME:EDT
DTSTART:20240310T070000
END:DAYLIGHT
BEGIN:STANDARD
TZOFFSETFROM:-0400
TZOFFSETTO:-0500
TZNAME:EST
DTSTART:20241103T060000
END:STANDARD
END:VTIMEZONE
BEGIN:VEVENT
DTSTART;TZID=America/New_York:20231130T183000
DTEND;TZID=America/New_York:20231130T203000
DTSTAMP:20260423T195357
CREATED:20231016T181857Z
LAST-MODIFIED:20231127T165741Z
UID:28593-1701369000-1701376200@msnva.org
SUMMARY:The MSNVA 139TH Annual Meeting
DESCRIPTION:  \nDear members and valued partners\, \nWe are thrilled to invite you to join us for The MSNVA 139th Annual Meeting.  As we commemorate this special occasion\, we reflect on our remarkable history and the achievements we have accomplished together. It is also an opportunity to look ahead at the exciting future that awaits us. \nTogether\, we will celebrate our collective achievements and amplify our impact. Your presence is what makes our community vibrant and your participation is what drives change. \nWe look forward to celebrating with you\, as we install the 2023 Board of Directors\, led by Alvaro Puig\, MD\, as the 139th President. \nOur guests will enjoy elevated hors d’oeuvres with an open wine bar and raffle prizes that include various gift cards\, each valued at $250 \nThis event is for active MSNVA members only\, non-member guests are not allowed.
URL:https://msnva.org/events/139th-annual-meeting/
LOCATION:Patsy’s American\, 8051 Leesburg Pike\, Vienna\, VA\, 22182\, United States
ORGANIZER;CN="Medical Society of Northern Virginia":MAILTO:leadership@msnva.org
END:VEVENT
BEGIN:VEVENT
DTSTART;TZID=America/New_York:20231102T183000
DTEND;TZID=America/New_York:20231102T210000
DTSTAMP:20260423T195357
CREATED:20230921T170137Z
LAST-MODIFIED:20231102T171609Z
UID:28408-1698949800-1698958800@msnva.org
SUMMARY:Automating Administrative Processes
DESCRIPTION:Sponsor: \n \nThis presentation is limited to 12 people\, the ideal audience includes\npractices with at least two sites in the DMV. The practice owner and her/his manager can attend. \nThis event is for active MSNVA members only\, non-member guests are not allowed.\n 
URL:https://msnva.org/events/automating-administrative-processes/
LOCATION:Patsy’s American\, 8051 Leesburg Pike\, Vienna\, VA\, 22182\, United States
END:VEVENT
BEGIN:VEVENT
DTSTART;TZID=America/New_York:20231026T183000
DTEND;TZID=America/New_York:20231026T200000
DTSTAMP:20260423T195357
CREATED:20230919T190154Z
LAST-MODIFIED:20230919T200359Z
UID:28378-1698345000-1698350400@msnva.org
SUMMARY:Treatment of PH Associated with ILD
DESCRIPTION:Sponsor: \n \nThis event is for active MSNVA members only\, non-member guests are not allowed.
URL:https://msnva.org/events/treatment-of-ph-associated-with-ild/
LOCATION:Patsy’s American\, 8051 Leesburg Pike\, Vienna\, VA\, 22182\, United States
END:VEVENT
BEGIN:VEVENT
DTSTART;TZID=America/New_York:20230928T183000
DTEND;TZID=America/New_York:20230928T210000
DTSTAMP:20260423T195357
CREATED:20230918T212419Z
LAST-MODIFIED:20230927T060040Z
UID:28358-1695925800-1695934800@msnva.org
SUMMARY:Meet and Greet with Virginia Total Care
DESCRIPTION:We are thrilled to announce our new partnership with Virginia Total Care (VTC).  Your presence is requested to this exclusive dinner event\, where we will personally introduce to VTC executives. \nVirginia Total Care is a subsidiary of Centene Corporation\, a diversified healthcare enterprise committed to helping people live healthier lives.  VTC is committed to improving the lives of Medicaid and dual eligible Medicare subscribers by building an innovative system of care that focuses on both medical and non-medical drivers of health. \nAgenda\n6:30PM – 7:30PM: Registration and networking\n7:30PM – 9:00PM: Dinner and introductions \nThis event is for active MSNVA members only\, non-member guests are not allowed.
URL:https://msnva.org/events/meet-and-greet-with-virginia-total-care/
LOCATION:American Prime\, 1420 Spring Hill Rd\, Mclean\, VA\, 22102\, United States
ORGANIZER;CN="Medical Society of Northern Virginia":MAILTO:leadership@msnva.org
END:VEVENT
BEGIN:VEVENT
DTSTART;TZID=America/New_York:20230914T190000
DTEND;TZID=America/New_York:20230914T200000
DTSTAMP:20260423T195357
CREATED:20230907T160138Z
LAST-MODIFIED:20230907T184835Z
UID:28257-1694718000-1694721600@msnva.org
SUMMARY:Virginia Elections and Legislative Update
DESCRIPTION:https://us02web.zoom.us/j/87603946946?pwd=cTZTcy9TUnpFR3lhM0J3aFVkazdidz09
URL:https://msnva.org/events/virginia-elections-and-legislative-update/
ORGANIZER;CN="Medical Society of Northern Virginia":MAILTO:leadership@msnva.org
END:VEVENT
END:VCALENDAR