BEGIN:VCALENDAR
VERSION:2.0
PRODID:-//MSNVA - ECPv6.15.20//NONSGML v1.0//EN
CALSCALE:GREGORIAN
METHOD:PUBLISH
X-WR-CALNAME:MSNVA
X-ORIGINAL-URL:https://msnva.org
X-WR-CALDESC:Events for MSNVA
REFRESH-INTERVAL;VALUE=DURATION:PT1H
X-Robots-Tag:noindex
X-PUBLISHED-TTL:PT1H
BEGIN:VTIMEZONE
TZID:America/New_York
BEGIN:DAYLIGHT
TZOFFSETFROM:-0500
TZOFFSETTO:-0400
TZNAME:EDT
DTSTART:20250309T070000
END:DAYLIGHT
BEGIN:STANDARD
TZOFFSETFROM:-0400
TZOFFSETTO:-0500
TZNAME:EST
DTSTART:20251102T060000
END:STANDARD
BEGIN:DAYLIGHT
TZOFFSETFROM:-0500
TZOFFSETTO:-0400
TZNAME:EDT
DTSTART:20260308T070000
END:DAYLIGHT
BEGIN:STANDARD
TZOFFSETFROM:-0400
TZOFFSETTO:-0500
TZNAME:EST
DTSTART:20261101T060000
END:STANDARD
BEGIN:DAYLIGHT
TZOFFSETFROM:-0500
TZOFFSETTO:-0400
TZNAME:EDT
DTSTART:20270314T070000
END:DAYLIGHT
BEGIN:STANDARD
TZOFFSETFROM:-0400
TZOFFSETTO:-0500
TZNAME:EST
DTSTART:20271107T060000
END:STANDARD
END:VTIMEZONE
BEGIN:VEVENT
DTSTART;TZID=America/New_York:20260319T140000
DTEND;TZID=America/New_York:20260319T210000
DTSTAMP:20260423T180442
CREATED:20260310T154231Z
LAST-MODIFIED:20260318T204204Z
UID:33198-1773928800-1773954000@msnva.org
SUMMARY:March Madness Watch Party
DESCRIPTION:Join Centurion Wealth Management for a March Madness Watch Party! \nStop by Circa at The Boro\, Tysons on Thursday\, March 19th at 2:00 PM EST to enjoy drinks\, good company\, and March Madness basketball! \nSponsored by:
URL:https://msnva.org/events/march-madness-watch-party/
LOCATION:Circa at The Boro\, 1675 Silver Hill Drive\, Tysons\, 22102\, United States
END:VEVENT
BEGIN:VEVENT
DTSTART;TZID=America/New_York:20260402T183000
DTEND;TZID=America/New_York:20260402T193000
DTSTAMP:20260423T180442
CREATED:20260309T180158Z
LAST-MODIFIED:20260402T212722Z
UID:33193-1775154600-1775158200@msnva.org
SUMMARY:The Foundation and Five Pillars of Medical Practice Success
DESCRIPTION:Join the Medical Society of Northern Virginia for a live webinar on The Foundation and Five Pillars of Medical Practice Success. \nThis live webinar will explore the foundation of success — including team culture\, cohesiveness\, and financial awareness — along with five pillars focused on increasing patient volume\, improving reimbursement and cash flow\, managing costs\, and maintaining high-quality care. \nThe webinar will be held via Zoom and is free to attend.  \nSpeakers: \n \nJerry Bozek \nSponsored By: \n \nJoin the webinar here
URL:https://msnva.org/events/the-foundation-and-five-pillars-of-medical-practice-success/
LOCATION:Live Webinar
ORGANIZER;CN="MSNVA":MAILTO:leadership@msnva.org
END:VEVENT
BEGIN:VEVENT
DTSTART;VALUE=DATE:20260514
DTEND;VALUE=DATE:20260516
DTSTAMP:20260423T180442
CREATED:20251008T163630Z
LAST-MODIFIED:20251008T165741Z
UID:32387-1778716800-1778889599@msnva.org
SUMMARY:Brain Disorders Conference 2026
DESCRIPTION:  \n  \n  \n  \nThe Inflammatory Brain Disorders Conference features nationally and internationally renowned experts skilled in diagnostic and therapeutic approaches who will present a diverse range of emerging clinical and research challenges\, insights\, and advances in the field of inflammatory brain disorders. Presentations are carefully selected to familiarize attendees with rapidly developing research and to educate clinicians on the latest understanding of treatment options. \nThis virtual conference is being offered free of charge to 500 physicians. The link to register and request the waived fee can be found on our website. Please scroll to the “fee waiver” section. \nThe Wisconsin Medical Society designates this live activity for a maximum of 12.0 AMA PRA Category 1 Credit(s)™. Physicians should claim only the credit commensurate with the extent of their participation in the activity.
URL:https://msnva.org/events/brain-disorders-conference-2026/
END:VEVENT
BEGIN:VEVENT
DTSTART;TZID=America/New_York:20260528T183000
DTEND;TZID=America/New_York:20260528T210000
DTSTAMP:20260423T180442
CREATED:20260123T171606Z
LAST-MODIFIED:20260306T161233Z
UID:32844-1779993000-1780002000@msnva.org
SUMMARY:AUB Networking Mixer
DESCRIPTION:Atlantic Union Bank (AUB) will be hosting a networking mixer for members. \nPlease join the MSNVA leadership and AUB executives for a fun evening with delicious food and cocktails. \nThis invitation is for active members only. One ticket per person. \nSponsor by:
URL:https://msnva.org/events/aub-networking-mixer/
LOCATION:Fogo De Chao Tyson’s\, 1775 Tysons Blvd.\, Tysons\, VA\, 22102\, United States
ORGANIZER;CN="MSNVA":MAILTO:leadership@msnva.org
END:VEVENT
END:VCALENDAR