BEGIN:VCALENDAR
VERSION:2.0
PRODID:-//MSNVA - ECPv6.15.20//NONSGML v1.0//EN
CALSCALE:GREGORIAN
METHOD:PUBLISH
X-ORIGINAL-URL:https://msnva.org
X-WR-CALDESC:Events for MSNVA
REFRESH-INTERVAL;VALUE=DURATION:PT1H
X-Robots-Tag:noindex
X-PUBLISHED-TTL:PT1H
BEGIN:VTIMEZONE
TZID:America/New_York
BEGIN:DAYLIGHT
TZOFFSETFROM:-0500
TZOFFSETTO:-0400
TZNAME:EDT
DTSTART:20250309T070000
END:DAYLIGHT
BEGIN:STANDARD
TZOFFSETFROM:-0400
TZOFFSETTO:-0500
TZNAME:EST
DTSTART:20251102T060000
END:STANDARD
BEGIN:DAYLIGHT
TZOFFSETFROM:-0500
TZOFFSETTO:-0400
TZNAME:EDT
DTSTART:20260308T070000
END:DAYLIGHT
BEGIN:STANDARD
TZOFFSETFROM:-0400
TZOFFSETTO:-0500
TZNAME:EST
DTSTART:20261101T060000
END:STANDARD
BEGIN:DAYLIGHT
TZOFFSETFROM:-0500
TZOFFSETTO:-0400
TZNAME:EDT
DTSTART:20270314T070000
END:DAYLIGHT
BEGIN:STANDARD
TZOFFSETFROM:-0400
TZOFFSETTO:-0500
TZNAME:EST
DTSTART:20271107T060000
END:STANDARD
END:VTIMEZONE
BEGIN:VEVENT
DTSTART;TZID=America/New_York:20260115T190000
DTEND;TZID=America/New_York:20260115T200000
DTSTAMP:20260425T112348
CREATED:20251021T130757Z
LAST-MODIFIED:20260115T235533Z
UID:32441-1768503600-1768507200@msnva.org
SUMMARY:SEO Webinar
DESCRIPTION:MSNVA members are invited to attend a live webinar presentation to discuss search engine optimization (SEO) and online presence. \nLike all businesses\, whether big or small\, an online presence is a must.  Your website presence drives new patients to your medical practice.  Even if you have a simple website\, SEO can help you create the right content and increase your patient volume. \nThis is how your peers at Northern Virginia Family Practice have leveraged their website\, Dr. Beauvais and Tara Temple\, Head of Marketing will discuss her firsthand experience with SEO and share some important and valuable lessons. We look forward to your participation. \n  \n \nJoin the live webinar here.
URL:https://msnva.org/events/seo-webinar/
LOCATION:Live Webinar
ORGANIZER;CN="Medical Society of Northern Virginia":MAILTO:leadership@msnva.org
END:VEVENT
END:VCALENDAR