BEGIN:VCALENDAR
VERSION:2.0
PRODID:-//MSNVA - ECPv6.15.20//NONSGML v1.0//EN
CALSCALE:GREGORIAN
METHOD:PUBLISH
X-WR-CALNAME:MSNVA
X-ORIGINAL-URL:https://msnva.org
X-WR-CALDESC:Events for MSNVA
REFRESH-INTERVAL;VALUE=DURATION:PT1H
X-Robots-Tag:noindex
X-PUBLISHED-TTL:PT1H
BEGIN:VTIMEZONE
TZID:America/New_York
BEGIN:DAYLIGHT
TZOFFSETFROM:-0500
TZOFFSETTO:-0400
TZNAME:EDT
DTSTART:20240310T070000
END:DAYLIGHT
BEGIN:STANDARD
TZOFFSETFROM:-0400
TZOFFSETTO:-0500
TZNAME:EST
DTSTART:20241103T060000
END:STANDARD
BEGIN:DAYLIGHT
TZOFFSETFROM:-0500
TZOFFSETTO:-0400
TZNAME:EDT
DTSTART:20250309T070000
END:DAYLIGHT
BEGIN:STANDARD
TZOFFSETFROM:-0400
TZOFFSETTO:-0500
TZNAME:EST
DTSTART:20251102T060000
END:STANDARD
BEGIN:DAYLIGHT
TZOFFSETFROM:-0500
TZOFFSETTO:-0400
TZNAME:EDT
DTSTART:20260308T070000
END:DAYLIGHT
BEGIN:STANDARD
TZOFFSETFROM:-0400
TZOFFSETTO:-0500
TZNAME:EST
DTSTART:20261101T060000
END:STANDARD
END:VTIMEZONE
BEGIN:VEVENT
DTSTART;TZID=America/New_York:20251115T080000
DTEND;TZID=America/New_York:20251115T130000
DTSTAMP:20260425T135809
CREATED:20250923T180947Z
LAST-MODIFIED:20250923T181427Z
UID:32242-1763193600-1763211600@msnva.org
SUMMARY:Digestive Disease Update 2025 CME
DESCRIPTION:This complimentary event features lectures from VHC Health experts in the fields of Gastroenterology\, Colorectal Surgery\, Advanced Endoscopy\, Hepatobiliary and Pancreatic Surgery\, Bariatric Surgery\, and General Surgery followed by discussions. The event will be moderated by Saad Haque\, MD\, Medical Director of Gastroenterology & Advanced Endoscopy. \nWho Should Attend:\nCommunity physicians\, advanced practice providers and nurses from all disciplines\, including Primary Care\, Internal Medicine\, Gastroenterology and Surgical Specialties. \nObjectives:\nUpdate our regional partners and referring providers with the latest clinical guidelines and cutting-edge complementary services.\nPresent multidisciplinary\, collaborative protocols employed at our advanced regional medical center to manage high-acuity gastrointestinal conditions. \nAttendees Will:\nEarn continuing education credits in a collegial\, community-focused environment. Learn the latest evidence-based updates in digestive health to enhance your clinical practice. Connect with gastrointestinal sub-specialists to promote streamlined\, coordinated care. \nContinuing Medical Education (CME): 4.0 ATTENDANCE:\nThe University of Virginia School of Medicine designates this live activity for a maximum of 4.0 AMA PRA Category 1 Credit(s)™ and Part II Maintenance of Certification (MOC) points (equivalent to AMA PRA Category 1™). \nBreakfast\, coffee and lunch will be provided. \nPark in Garage C. Attendees will receive parking validation. \nRegistration is free but required\, please register on the details’ link below. \nEvent contacts:\nWendy Zeng wzeng@vhchealth.org\nSaad Haque SAH8382@vhchealth.org \nSponsor by:
URL:https://msnva.org/events/digestive-disease-update-2025-cme/
LOCATION:VHC John T. Hazel\, MD Coference Center\, 1635 N. George Mason Drive\, Arlington\, 22205\, United States
ORGANIZER;CN="Virginia Hospital Center":MAILTO:VHCHMedicalGroupEvent@vhchealth.org
END:VEVENT
END:VCALENDAR