BEGIN:VCALENDAR
VERSION:2.0
PRODID:-//MSNVA - ECPv6.15.20//NONSGML v1.0//EN
CALSCALE:GREGORIAN
METHOD:PUBLISH
X-WR-CALNAME:MSNVA
X-ORIGINAL-URL:https://msnva.org
X-WR-CALDESC:Events for MSNVA
REFRESH-INTERVAL;VALUE=DURATION:PT1H
X-Robots-Tag:noindex
X-PUBLISHED-TTL:PT1H
BEGIN:VTIMEZONE
TZID:America/New_York
BEGIN:DAYLIGHT
TZOFFSETFROM:-0500
TZOFFSETTO:-0400
TZNAME:EDT
DTSTART:20240310T070000
END:DAYLIGHT
BEGIN:STANDARD
TZOFFSETFROM:-0400
TZOFFSETTO:-0500
TZNAME:EST
DTSTART:20241103T060000
END:STANDARD
BEGIN:DAYLIGHT
TZOFFSETFROM:-0500
TZOFFSETTO:-0400
TZNAME:EDT
DTSTART:20250309T070000
END:DAYLIGHT
BEGIN:STANDARD
TZOFFSETFROM:-0400
TZOFFSETTO:-0500
TZNAME:EST
DTSTART:20251102T060000
END:STANDARD
BEGIN:DAYLIGHT
TZOFFSETFROM:-0500
TZOFFSETTO:-0400
TZNAME:EDT
DTSTART:20260308T070000
END:DAYLIGHT
BEGIN:STANDARD
TZOFFSETFROM:-0400
TZOFFSETTO:-0500
TZNAME:EST
DTSTART:20261101T060000
END:STANDARD
END:VTIMEZONE
BEGIN:VEVENT
DTSTART;TZID=America/New_York:20251106T123000
DTEND;TZID=America/New_York:20251106T133000
DTSTAMP:20260425T135758
CREATED:20250825T205038Z
LAST-MODIFIED:20250828T174227Z
UID:32019-1762432200-1762435800@msnva.org
SUMMARY:NF1 PN CME
DESCRIPTION:Live Webinar CME Lunch Lecture Series\nTopic: NF1 NP \nSynopsis: Recognizing\, diagnosis and treatment for pediatric and adult patients with plexiform neurofibromas (PN) associated with neurofibromatosis type 1 (NF1) \nSpeaker: TBA \nTime: 12:30PM-EST \n*This lecture is open to physicians and their care team\n*1 AMA PRA Category 1 Credits™ or 1.0 continuing nursing contact hour \nThis activity is jointly provided by Rush University Medical Center and Practice Point® Communications. \n \n\nFor additional information\, please contact Regina Stacy \nPhone: (813) 925-7158\nrstacy@practicepointcme.com
URL:https://msnva.org/events/nf1-pn-cme/
LOCATION:Live Webinar
END:VEVENT
BEGIN:VEVENT
DTSTART;TZID=America/New_York:20251106T190000
DTEND;TZID=America/New_York:20251106T200000
DTSTAMP:20260425T135758
CREATED:20251008T130258Z
LAST-MODIFIED:20251107T005021Z
UID:32368-1762455600-1762459200@msnva.org
SUMMARY:AI in Healthcare
DESCRIPTION:MSNVA is pleased to invite the Northern Virginia Medical Community to a live webinar to learn and discuss practical realities\, risks\, and opportunities of AI adoption in clinical and operational settings. \n Title:\n“AI in Healthcare: What’s Real\, What’s Hype\, and How to Prepare” \nSpeakers:\nMehmet Kazgan\, CEO\, cliexa\nScott Nelson\, Managing Principal\, SpringParker \nKey Topics Covered:\n\nDefining AI and Its Role in Healthcare\nRegulatory and Compliance Considerations\nRed Flags and False Claims\nThe Road to Implementation\n\nThis is an educational\, non-sales discussion designed to equip attendees with the language\, frameworks\, and confidence to evaluate AI offerings. \n*Open to MSNVA members and non-member clinicians\, registration is required. \n        \n 
URL:https://msnva.org/events/ai-in-healthcare/
LOCATION:Live Webinar
ORGANIZER;CN="Medical Society of Northern Virginia":MAILTO:leadership@msnva.org
END:VEVENT
END:VCALENDAR