BEGIN:VCALENDAR
VERSION:2.0
PRODID:-//MSNVA - ECPv6.15.20//NONSGML v1.0//EN
CALSCALE:GREGORIAN
METHOD:PUBLISH
X-WR-CALNAME:MSNVA
X-ORIGINAL-URL:https://msnva.org
X-WR-CALDESC:Events for MSNVA
REFRESH-INTERVAL;VALUE=DURATION:PT1H
X-Robots-Tag:noindex
X-PUBLISHED-TTL:PT1H
BEGIN:VTIMEZONE
TZID:America/New_York
BEGIN:DAYLIGHT
TZOFFSETFROM:-0500
TZOFFSETTO:-0400
TZNAME:EDT
DTSTART:20240310T070000
END:DAYLIGHT
BEGIN:STANDARD
TZOFFSETFROM:-0400
TZOFFSETTO:-0500
TZNAME:EST
DTSTART:20241103T060000
END:STANDARD
BEGIN:DAYLIGHT
TZOFFSETFROM:-0500
TZOFFSETTO:-0400
TZNAME:EDT
DTSTART:20250309T070000
END:DAYLIGHT
BEGIN:STANDARD
TZOFFSETFROM:-0400
TZOFFSETTO:-0500
TZNAME:EST
DTSTART:20251102T060000
END:STANDARD
BEGIN:DAYLIGHT
TZOFFSETFROM:-0500
TZOFFSETTO:-0400
TZNAME:EDT
DTSTART:20260308T070000
END:DAYLIGHT
BEGIN:STANDARD
TZOFFSETFROM:-0400
TZOFFSETTO:-0500
TZNAME:EST
DTSTART:20261101T060000
END:STANDARD
END:VTIMEZONE
BEGIN:VEVENT
DTSTART;TZID=America/New_York:20251018T073000
DTEND;TZID=America/New_York:20251018T120000
DTSTAMP:20260425T150951
CREATED:20250923T182621Z
LAST-MODIFIED:20250923T184526Z
UID:32262-1760772600-1760788800@msnva.org
SUMMARY:Bariatric Symposium 2025 CME
DESCRIPTION:Continuing Medical Education (CME): 4.0 ATTENDANCE:\nThe University of Virginia School of Medicine designates this live activity for a maximum of 4.0 AMA PRA Category 1 Credit(s)™ and Part II Maintenance of Certification (MOC) points (equivalent to AMA PRA Category 1™). \nLight breakfast and Coffee will be provided \nThis is a free event but requires registration on the Details’ link below. \nSponsor by:
URL:https://msnva.org/events/bariatric-symposium-2025/
LOCATION:VHC John T. Hazel\, MD Coference Center\, 1635 N. George Mason Drive\, Arlington\, 22205\, United States
ORGANIZER;CN="Virginia Hospital Center":MAILTO:VHCHMedicalGroupEvent@vhchealth.org
END:VEVENT
END:VCALENDAR