BEGIN:VCALENDAR
VERSION:2.0
PRODID:-//MSNVA - ECPv6.15.20//NONSGML v1.0//EN
CALSCALE:GREGORIAN
METHOD:PUBLISH
X-WR-CALNAME:MSNVA
X-ORIGINAL-URL:https://msnva.org
X-WR-CALDESC:Events for MSNVA
REFRESH-INTERVAL;VALUE=DURATION:PT1H
X-Robots-Tag:noindex
X-PUBLISHED-TTL:PT1H
BEGIN:VTIMEZONE
TZID:America/New_York
BEGIN:DAYLIGHT
TZOFFSETFROM:-0500
TZOFFSETTO:-0400
TZNAME:EDT
DTSTART:20240310T070000
END:DAYLIGHT
BEGIN:STANDARD
TZOFFSETFROM:-0400
TZOFFSETTO:-0500
TZNAME:EST
DTSTART:20241103T060000
END:STANDARD
BEGIN:DAYLIGHT
TZOFFSETFROM:-0500
TZOFFSETTO:-0400
TZNAME:EDT
DTSTART:20250309T070000
END:DAYLIGHT
BEGIN:STANDARD
TZOFFSETFROM:-0400
TZOFFSETTO:-0500
TZNAME:EST
DTSTART:20251102T060000
END:STANDARD
BEGIN:DAYLIGHT
TZOFFSETFROM:-0500
TZOFFSETTO:-0400
TZNAME:EDT
DTSTART:20260308T070000
END:DAYLIGHT
BEGIN:STANDARD
TZOFFSETFROM:-0400
TZOFFSETTO:-0500
TZNAME:EST
DTSTART:20261101T060000
END:STANDARD
END:VTIMEZONE
BEGIN:VEVENT
DTSTART;TZID=America/New_York:20251009T123000
DTEND;TZID=America/New_York:20251009T133000
DTSTAMP:20260425T151001
CREATED:20250825T204440Z
LAST-MODIFIED:20250828T173831Z
UID:32017-1760013000-1760016600@msnva.org
SUMMARY:ITP CME
DESCRIPTION:Live Webinar CME Lunch Lecture Series\nTopic:\nIntegrating Emerging Therapies into Clinical Practice\nfor Pediatric ITP: Exploring Evidence\, Guidelines and Best Practices \nSynopsis:\nA leading pediatric ITP Expert will provide insights into emerging data on ITP pathophysiology\, diagnosis\, and treatment\, equipping you with the knowledge to translate new research into clinical practice and improved pediatric patient care. \nSpeaker: Kristin Shimano\, MD \nTime: 12:30PM-EST \n*This lecture is open to physicians and their care team\n*1 AMA PRA Category 1 Credits™ or 1.0 continuing nursing contact hour \nThis activity is jointly provided by Rush University Medical Center and Practice Point® Communications. \n \nFor additional information\, please contact Regina Stacy \nPhone: (813) 925-7158\nrstacy@practicepointcme.com
URL:https://msnva.org/events/itp-cme/
LOCATION:Live Webinar
ORGANIZER;CN="MSNVA":MAILTO:leadership@msnva.org
END:VEVENT
END:VCALENDAR