BEGIN:VCALENDAR
VERSION:2.0
PRODID:-//MSNVA - ECPv6.15.20//NONSGML v1.0//EN
CALSCALE:GREGORIAN
METHOD:PUBLISH
X-WR-CALNAME:MSNVA
X-ORIGINAL-URL:https://msnva.org
X-WR-CALDESC:Events for MSNVA
REFRESH-INTERVAL;VALUE=DURATION:PT1H
X-Robots-Tag:noindex
X-PUBLISHED-TTL:PT1H
BEGIN:VTIMEZONE
TZID:America/New_York
BEGIN:DAYLIGHT
TZOFFSETFROM:-0500
TZOFFSETTO:-0400
TZNAME:EDT
DTSTART:20240310T070000
END:DAYLIGHT
BEGIN:STANDARD
TZOFFSETFROM:-0400
TZOFFSETTO:-0500
TZNAME:EST
DTSTART:20241103T060000
END:STANDARD
BEGIN:DAYLIGHT
TZOFFSETFROM:-0500
TZOFFSETTO:-0400
TZNAME:EDT
DTSTART:20250309T070000
END:DAYLIGHT
BEGIN:STANDARD
TZOFFSETFROM:-0400
TZOFFSETTO:-0500
TZNAME:EST
DTSTART:20251102T060000
END:STANDARD
BEGIN:DAYLIGHT
TZOFFSETFROM:-0500
TZOFFSETTO:-0400
TZNAME:EDT
DTSTART:20260308T070000
END:DAYLIGHT
BEGIN:STANDARD
TZOFFSETFROM:-0400
TZOFFSETTO:-0500
TZNAME:EST
DTSTART:20261101T060000
END:STANDARD
END:VTIMEZONE
BEGIN:VEVENT
DTSTART;TZID=America/New_York:20250918T183000
DTEND;TZID=America/New_York:20250918T203000
DTSTAMP:20260425T162459
CREATED:20250409T143412Z
LAST-MODIFIED:20250903T174221Z
UID:31221-1758220200-1758227400@msnva.org
SUMMARY:CWM Dinner
DESCRIPTION:Please join us for an engaging and inspiring evening featuring MSNVA member Nicole Hayre\, MD\, FAAD. \n \nDr. Hayre will share her experience as a scientist and entrepreneur that led to the creation of Cutocin®\,\na first-of-its-kind anti-aging skincare line that incorporates a patented botanical ingredient\,\nmimicking the effects of Oxytocin on the skin and ensuring a youthful glow\, like that of being in love. \n  \n*This event is for active MSNVA members only / One ticket per member \nSponsor by:
URL:https://msnva.org/events/cwm-dinner/
LOCATION:The Palm Tysons Corner\, 1750 Tysons Blvd\, Tysons\, VA\, 22102\, United States
END:VEVENT
END:VCALENDAR